BEGIN:VCALENDAR
VERSION:2.0
PRODID:-//Asociación de Periodistas De Aragón - ECPv6.15.12.2//NONSGML v1.0//EN
CALSCALE:GREGORIAN
METHOD:PUBLISH
X-ORIGINAL-URL:https://periodistasdearagon.org
X-WR-CALDESC:Eventos para Asociación de Periodistas De Aragón
REFRESH-INTERVAL;VALUE=DURATION:PT1H
X-Robots-Tag:noindex
X-PUBLISHED-TTL:PT1H
BEGIN:VTIMEZONE
TZID:Europe/Madrid
BEGIN:DAYLIGHT
TZOFFSETFROM:+0100
TZOFFSETTO:+0200
TZNAME:CEST
DTSTART:20240331T010000
END:DAYLIGHT
BEGIN:STANDARD
TZOFFSETFROM:+0200
TZOFFSETTO:+0100
TZNAME:CET
DTSTART:20241027T010000
END:STANDARD
BEGIN:DAYLIGHT
TZOFFSETFROM:+0100
TZOFFSETTO:+0200
TZNAME:CEST
DTSTART:20250330T010000
END:DAYLIGHT
BEGIN:STANDARD
TZOFFSETFROM:+0200
TZOFFSETTO:+0100
TZNAME:CET
DTSTART:20251026T010000
END:STANDARD
BEGIN:DAYLIGHT
TZOFFSETFROM:+0100
TZOFFSETTO:+0200
TZNAME:CEST
DTSTART:20260329T010000
END:DAYLIGHT
BEGIN:STANDARD
TZOFFSETFROM:+0200
TZOFFSETTO:+0100
TZNAME:CET
DTSTART:20261025T010000
END:STANDARD
BEGIN:DAYLIGHT
TZOFFSETFROM:+0100
TZOFFSETTO:+0200
TZNAME:CEST
DTSTART:20270328T010000
END:DAYLIGHT
BEGIN:STANDARD
TZOFFSETFROM:+0200
TZOFFSETTO:+0100
TZNAME:CET
DTSTART:20271031T010000
END:STANDARD
END:VTIMEZONE
BEGIN:VEVENT
DTSTART;TZID=Europe/Madrid:20260312T080000
DTEND;TZID=Europe/Madrid:20260313T170000
DTSTAMP:20260425T155220
CREATED:20250425T184601Z
LAST-MODIFIED:20250609T113857Z
UID:59922-1773302400-1773421200@periodistasdearagon.org
SUMMARY:XXVII Congreso de Periodismo de Huesca
DESCRIPTION:El 27º Congreso de Periodismo de Huesca ya tiene fecha confirmada: 12 y 13 de marzo de 2026.
URL:https://periodistasdearagon.org/evento/xxvii-congreso-de-periodismo-de-huesca/
END:VEVENT
BEGIN:VEVENT
DTSTART;TZID=Europe/Madrid:20260212T080000
DTEND;TZID=Europe/Madrid:20260213T170000
DTSTAMP:20260425T155220
CREATED:20260126T081914Z
LAST-MODIFIED:20260126T081914Z
UID:61874-1770883200-1771002000@periodistasdearagon.org
SUMMARY:I Encuentro de Comunicación\, Ciencia y Sociedad de Teruel
DESCRIPTION:La Asociación de Periodistas de Aragón y el Centro de Estudios de Física del Cosmos de Aragón (Cefca) han presentado este martes en la Diputación Provincial de Teruel el I Encuentro de Comunicación\, Ciencia y Sociedad\, una cita que se celebrará durante los días 12 y 13 de febrero y que reunirá en la capital turolense a periodistas y divulgadores científicos.\n\n \n\nEsta primera edición estará centrada en el estudio\, la observación y la comunicación de los eclipses\, coincidiendo con el evento histórico\, el eclipse solar del 12 de agosto\, que convertirá a la provincia de Teruel en una de las mejores zonas del mundo para su observación.
URL:https://periodistasdearagon.org/evento/i-encuentro-de-comunicacion-ciencia-y-sociedad-de-teruel/
ATTACH;FMTTYPE=image/png:https://periodistasdearagon.org/wp-content/uploads/2026/01/Captura-de-pantalla-2026-01-13-150643-e1768313347277.png
END:VEVENT
BEGIN:VEVENT
DTSTART;VALUE=DATE:20260129
DTEND;VALUE=DATE:20260130
DTSTAMP:20260425T155220
CREATED:20260126T082112Z
LAST-MODIFIED:20260126T082112Z
UID:61876-1769644800-1769731199@periodistasdearagon.org
SUMMARY:Visita guiada a la exposición 'Vida'
DESCRIPTION:Nuestro compañero Gervasio Sánchez lleva a cabo una visita guiada por su exposición &#8216;Vida&#8217; a los miembros y sus familias de Periodistas de Aragón.
URL:https://periodistasdearagon.org/evento/visita-guiada-a-la-exposicion-vida/
ATTACH;FMTTYPE=image/jpeg:https://periodistasdearagon.org/wp-content/uploads/2026/01/AJUSTE-DE-IMAGENES-2026-01-24T100519.644.jpg
END:VEVENT
BEGIN:VEVENT
DTSTART;TZID=Europe/Madrid:20260122T080000
DTEND;TZID=Europe/Madrid:20260123T170000
DTSTAMP:20260425T155220
CREATED:20260126T082354Z
LAST-MODIFIED:20260126T082354Z
UID:61879-1769068800-1769187600@periodistasdearagon.org
SUMMARY:I Jornadas internacionales para combatir los discursos de odio
DESCRIPTION:Zaragoza acogerá los próximos días 22 y 23 de enero las I Jornadas Internacionales “Ideas para combatir el odio”\, un encuentro que reunirá a académicos\, periodistas\, activistas y representantes institucionales para reflexionar sobre el auge de los discursos de odio y sus efectos en la democracia. \nLas jornadas están organizadas por la Fundación Contexto y Acción\, el Comisionado 50 años de España en Libertad\, la Universidad de Zaragoza y el Ateneo Stanbrook\, con la colaboración de entidades como Hope not Hate\, Brasil Contra el Odio\, Internacional Progresista o Pandemia Digital\, y se celebrarán en el Paraninfo de la Universidad de Zaragoza y en el Ateneo Laico Stanbrook.
URL:https://periodistasdearagon.org/evento/i-jornadas-internacionales-para-combatir-los-discursos-de-odio/
ATTACH;FMTTYPE=image/jpeg:https://periodistasdearagon.org/wp-content/uploads/2026/01/AJUSTE-DE-IMAGENES-2026-01-15T162707.725.jpg
END:VEVENT
BEGIN:VEVENT
DTSTART;VALUE=DATE:20260119
DTEND;VALUE=DATE:20260120
DTSTAMP:20260425T155220
CREATED:20260126T082457Z
LAST-MODIFIED:20260126T082457Z
UID:61881-1768780800-1768867199@periodistasdearagon.org
SUMMARY:'El tiempo de las mujeres' con Pepa Fernández
DESCRIPTION:El Aula Magna del Paraninfo de la Universidad de Zaragoza acogerá el lunes 19 de enero\, a las 19.00 horas\, la sesión 26 del ciclo “El tiempo de las mujeres”\, un ciclo de conversaciones entre mujeres sobresalientes de la vida española y aragonesa\, que en esta ocasión contará con la presencia de dos grandes figuras del periodismo\, Pepa Fernández y Lola Campos\, que entrevistará a Fernández sobre su brillante trayectoria. \nPepa Fernández\, nacida en Cervera (Lleida) es una de las grandes periodistas españolas de este siglo XXI. Licenciada en Ciencias de la Información por la Universidad Autónoma de Barcelona\, buena parte de su carrera profesional la ha desarrollado en Radio Nacional de España\, como directora y presentadora de programas como No es un día cualquiera (entre 1999 y 2019 y entre 2022 hasta la actualidad) o De pe a pa (entre 2019 y 2022). Ha colaborado con TVE y TV3 y ha sido profesora de periodismo en diversas universidades.
URL:https://periodistasdearagon.org/evento/el-tiempo-de-las-mujeres-con-pepa-fernandez/
ATTACH;FMTTYPE=image/jpeg:https://periodistasdearagon.org/wp-content/uploads/2026/01/AJUSTE-DE-IMAGENES-2026-01-14T142104.720.jpg
END:VEVENT
BEGIN:VEVENT
DTSTART;VALUE=DATE:20260110
DTEND;VALUE=DATE:20260111
DTSTAMP:20260425T155220
CREATED:20250425T184008Z
LAST-MODIFIED:20250425T184008Z
UID:59912-1768003200-1768089599@periodistasdearagon.org
SUMMARY:Termina el plazo para los premios periodísticos sobre Anestesiología de SEDAR
DESCRIPTION:La Sociedad Española de Anestesiología\, Reanimación y Terapéutica del Dolor (SEDAR) ha convocado la segunda edición de sus premios periodísticos. La iniciativa tiene como objetivo poner en valor a aquellos periodistas que\, con su trabajo\, contribuyen a ampliar la difusión del conocimiento de la Anestesiología entre la población general y los sectores especializados. Las candidaturas podrán presentarse hasta el 10 de enero de 2026.
URL:https://periodistasdearagon.org/evento/termina-el-plazo-para-los-premios-periodisticos-sobre-anestesiologia-de-sedar/
END:VEVENT
BEGIN:VEVENT
DTSTART;VALUE=DATE:20260109
DTEND;VALUE=DATE:20260110
DTSTAMP:20260425T155220
CREATED:20250425T184131Z
LAST-MODIFIED:20250425T184131Z
UID:59914-1767916800-1768003199@periodistasdearagon.org
SUMMARY:Premios de Periodismo sobre Sostenibilidad y Salud
DESCRIPTION:La Asociación Nacional de Informadores de la Salud (ANIS) ha colaborado junto a Forética en los primeros Premios sobre Sostenibilidad en Salud organizados por Lilly España. Estos galardones cuentan con el objetivo de promover y reconocer la labor de periodistas en los medios de comunicación españoles y su contribución en la difusión de los valores en sostenibilidad en beneficios de alcanzar un impacto positivo en el planeta. \nEl plazo de presentación de candidaturas permanecerá abierto desde el 18 de marzo de 2025 hasta el 9 de enero de 2026.
URL:https://periodistasdearagon.org/evento/premios-de-periodismo-sobre-sostenibilidad-y-salud/
END:VEVENT
BEGIN:VEVENT
DTSTART;VALUE=DATE:20260108
DTEND;VALUE=DATE:20260109
DTSTAMP:20260425T155220
CREATED:20250714T081123Z
LAST-MODIFIED:20250714T081123Z
UID:60845-1767830400-1767916799@periodistasdearagon.org
SUMMARY:Fin del III Premio de Periodismo de SEOR
DESCRIPTION:La Sociedad Española de Oncología Radioterápica (SEOR) ha convocado la tercera edición de su Premio Periodístico que nace con el objetivo de promover y reconocer la labor de los periodistas españoles que\, con su trabajo\, contribuyen a ampliar la difusión del conocimiento del cáncer. El plazo para enviar trabajos concluye el 8 de enero.
URL:https://periodistasdearagon.org/evento/fin-del-iii-premio-de-periodismo-de-seor/
END:VEVENT
BEGIN:VEVENT
DTSTART;VALUE=DATE:20260102
DTEND;VALUE=DATE:20260103
DTSTAMP:20260425T155220
CREATED:20250505T110245Z
LAST-MODIFIED:20250505T110245Z
UID:60221-1767312000-1767398399@periodistasdearagon.org
SUMMARY:XVI Premios de Periodismo sobre Dolor
DESCRIPTION:La Fundación Grünenthal\, con la Asociación de Periodistas sanitarios y profesionales de la comunicación en salud de España\, convoca la XVI Edición de sus Premios de Periodismo. El objetivo de estos galardones es reconocer el trabajo realizado por los medios de comunicación y por los periodistas para sensibilizar a la sociedad sobre el dolor en España\, su diagnóstico\, evolución y tratamiento. La fecha límite para la presentación de los trabajos es el 2 de enero de 2026.\n\n \n\nEstos Premios están abiertos a todos los trabajos periodísticos publicados o emitidos entre el 1 de enero de 2025 al 31 de diciembre de 2025\, y que tengan como temática principal el dolor\, desde el punto de vista asistencial\, biopsicosocial\, socioeconómico o de concienciación. Asimismo\, su autor o autores deberán ser titulares de los trabajos presentados.\n\n\n\nLos trabajos deben haberse publicado o emitido en cualquier medio de comunicación español\, de prensa escrita\, digital o audiovisual y pueden presentarse en castellano o en alguna de las lenguas oficiales del Estado\, en cuyo caso debe adjuntarse la traducción al castellano.\n\n \n\nEsta edición\, que consta de tres categorías\, reconocerá los trabajos con el Premio categoría medios de comunicación escritos con dos premios de 3.000 euros y dos de 1.500 euros\, correspondientes a la parte Dolor y Dolor Infantil. Por otro lado\, el Premio categoría medios de comunicación audiovisuales aunará el Dolor y Dolor Infantil entregando un premio de 3.000 euros y un segundo de 1.500 euros.\n\n \n\nEl jurado estará formado por personalidades destacadas del ámbito periodístico\, la medicina y los pacientes en general. Estos podrán conceder menciones especiales\, sin premio económico\, a aquellos trabajos que aun no habiendo sido premiados\, consideren que por su alta calidad deben ser reconocidos.
URL:https://periodistasdearagon.org/evento/xvi-premios-de-periodismo-sobre-dolor/
END:VEVENT
BEGIN:VEVENT
DTSTART;VALUE=DATE:20251130
DTEND;VALUE=DATE:20251201
DTSTAMP:20260425T155220
CREATED:20250610T094859Z
LAST-MODIFIED:20250610T094859Z
UID:60579-1764460800-1764547199@periodistasdearagon.org
SUMMARY:Fin del plazo para el premio sobre artículos periodísticos de El Ciervo
DESCRIPTION:La revista El Ciervo convoca la 50.º edición del “Premio El Ciervo-Enrique Ferrán” de artículos periodísticos\, que en esta ocasión será sobre el tema: “¿Cómo imaginas el futuro?”. Hasta el 30 de noviembre.
URL:https://periodistasdearagon.org/evento/fin-del-plazo-para-el-premio-sobre-articulos-periodisticos-de-el-ciervo/
END:VEVENT
BEGIN:VEVENT
DTSTART;TZID=Europe/Madrid:20251024T080000
DTEND;TZID=Europe/Madrid:20251026T170000
DTSTAMP:20260425T155220
CREATED:20250714T081034Z
LAST-MODIFIED:20250714T081034Z
UID:60843-1761292800-1761498000@periodistasdearagon.org
SUMMARY:XX Congreso ANIS ‘Cuando la información de salud salva vidas’
DESCRIPTION:La Asociación Nacional de Informadores de la Salud (ANIS) celebra su XX Congreso dirigido a periodistas de salud y profesionales de la comunicación sanitaria. El evento se lleva a cabo los días 24\, 25 y 26 de octubre de 2025 en la Universidad San Jorge de Zaragoza\, con el lema ‘Cuando la información de salud salva vidas’. Un encuentro que reúne todos los años a más de 150 profesionales de la comunicación\, del periodismo y de la divulgación en salud.
URL:https://periodistasdearagon.org/evento/xx-congreso-anis-cuando-la-informacion-de-salud-salva-vidas/
END:VEVENT
BEGIN:VEVENT
DTSTART;VALUE=DATE:20251024
DTEND;VALUE=DATE:20251025
DTSTAMP:20260425T155220
CREATED:20250610T095447Z
LAST-MODIFIED:20250610T095447Z
UID:60596-1761264000-1761350399@periodistasdearagon.org
SUMMARY:Fin de los X Premios de Periodismo contra la Violencia de Género
DESCRIPTION:La Fundación Aliados por la Integración ha convocado los X Premios de Periodismo contra la Violencia de Género\, que tienen como objetivo reconocer y recompensar aquellos trabajos periodísticos que contribuyan a la defensa y difusión de los valores contra esta lacra social. El plazo está abierto hasta el 24 de octubre.
URL:https://periodistasdearagon.org/evento/fin-de-los-x-premios-de-periodismo-contra-la-violencia-de-genero/
END:VEVENT
BEGIN:VEVENT
DTSTART;VALUE=DATE:20250930
DTEND;VALUE=DATE:20251001
DTSTAMP:20260425T155220
CREATED:20250714T080856Z
LAST-MODIFIED:20250714T080856Z
UID:60839-1759190400-1759276799@periodistasdearagon.org
SUMMARY:Fin de la VII edición del Premio de Comunicación Ricardo Pereda
DESCRIPTION:Dircom Aragón ha convocado la VII edición del Premio de Comunicación Ricardo Pereda\, un galardón que pretende poner en valor y dar visibilidad a la mejor estrategia de comunicación orientada a construir o mejorar una buena reputación corporativa en una organización y a dar visibilidad y fortaleza al liderazgo en comunicación.
URL:https://periodistasdearagon.org/evento/fin-de-la-vii-edicion-del-premio-de-comunicacion-ricardo-pereda/
END:VEVENT
BEGIN:VEVENT
DTSTART;VALUE=DATE:20250930
DTEND;VALUE=DATE:20251001
DTSTAMP:20260425T155220
CREATED:20250714T080810Z
LAST-MODIFIED:20250714T080810Z
UID:60837-1759190400-1759276799@periodistasdearagon.org
SUMMARY:Premio Internacional de Periodismo ‘Manuel Chaves Nogales’
DESCRIPTION:La Asociación de la Prensa de Sevilla junto con la Diputación de Sevilla\, a través de su Área de Cultura y Ciudadanía\, han convocado la quinta edición del Premio Internacional de Periodismo “Manuel Chaves Nogales”\, correspondiente al año 2025\, con el fin de poner en valor trabajos periodísticos en los que concurran valores profesionales y humanos de honestidad e independencia. El plazo concluye el martes 30 de septiembre. \n
URL:https://periodistasdearagon.org/evento/premio-internacional-de-periodismo-manuel-chaves-nogales/
END:VEVENT
BEGIN:VEVENT
DTSTART;VALUE=DATE:20250915
DTEND;VALUE=DATE:20250916
DTSTAMP:20260425T155220
CREATED:20250425T184950Z
LAST-MODIFIED:20250425T184950Z
UID:59928-1757894400-1757980799@periodistasdearagon.org
SUMMARY:VII Premio de Periodismo de EIT Food
DESCRIPTION:El Premio de Periodismo EIT Food en Innovación y Sostenibilidad Agroalimentaria reconoce los mejores trabajos periodísticos relacionados con el ámbito agroalimentario.\n\n \n\nPara esta nueva edición se han elevado las cuantías de los premios\, con un incremento total del 42% respecto a ediciones anteriores: 2.000€ para el trabajo ganador\, 1.500€ al segundo y 750€ al tercero. De esta manera\, se trata de reconocer y valorar el esfuerzo de los periodistas que elaboran trabajos relevantes sobre el sector alimentario.\n\n \n\nSegún las bases\, se admiten tanto candidaturas de medios escritos (de papel o digitales) como en radio\, podcast y televisión publicadas desde el 1 de septiembre del año pasado hasta el próximo 31 de agosto de este 2025. La fecha límite para entregarlos es el 15 de septiembre.
URL:https://periodistasdearagon.org/evento/vii-premio-de-periodismo-de-eit-food/
END:VEVENT
BEGIN:VEVENT
DTSTART;TZID=Europe/Madrid:20250912T080000
DTEND;TZID=Europe/Madrid:20250912T170000
DTSTAMP:20260425T155220
CREATED:20250714T080929Z
LAST-MODIFIED:20250714T080930Z
UID:60841-1757664000-1757696400@periodistasdearagon.org
SUMMARY:Fin Premios de Periodismo de la Provincia de Valladolid
DESCRIPTION:La Diputación de Valladolid abre el plazo de presentación de trabajos para la 29ª edición de los Premios de Periodismo Provincia de Valladolid\, una convocatoria para reconocer y promover aquellos trabajos periodísticos y fotográficos que contribuyan a difundir los valores\, la identidad y la realidad de la provincia a través de los medios de comunicación. El plazo para la presentación de trabajos permanecerá abierto hasta el 12 de septiembre.
URL:https://periodistasdearagon.org/evento/fin-premios-de-periodismo-de-la-provincia-de-valladolid/
END:VEVENT
BEGIN:VEVENT
DTSTART;VALUE=DATE:20250831
DTEND;VALUE=DATE:20250901
DTSTAMP:20260425T155220
CREATED:20250425T182652Z
LAST-MODIFIED:20250425T182652Z
UID:59893-1756598400-1756684799@periodistasdearagon.org
SUMMARY:Certamen "Punto final" de Quinto
DESCRIPTION:Quinto convoca la V edición del certamen &#8220;Punto final&#8220;\, donde la muerte es la protagonista absoluta de las creaciones artísticas: cortometraje\, cuento y fotografía. El plazo de envío de obras finalizará el 31 de agosto.
URL:https://periodistasdearagon.org/evento/certamen-punto-final-de-quinto/
END:VEVENT
BEGIN:VEVENT
DTSTART;VALUE=DATE:20250820
DTEND;VALUE=DATE:20250821
DTSTAMP:20260425T155220
CREATED:20250714T085330Z
LAST-MODIFIED:20250714T085330Z
UID:60847-1755648000-1755734399@periodistasdearagon.org
SUMMARY:Premios de Periodismo de la Fundación Policía Española 2025
DESCRIPTION:La Fundación Policía Española ha convocado una nueva edición de los Premios Periodismo de la Fundación Policía Española (FPE) 2025\, con el fin de seleccionar los mejores trabajos presentados que mejor analicen la labor realizada por la Policía Nacional en aras a la seguridad de la ciudadanía\, atendiendo a criterios de calidad y rigor periodístico\, así como al nivel de difusión alcanzado. El plazo finaliza el 20 de agosto.
URL:https://periodistasdearagon.org/evento/premios-de-periodismo-de-la-fundacion-policia-espanola-2025/
END:VEVENT
BEGIN:VEVENT
DTSTART;VALUE=DATE:20250731
DTEND;VALUE=DATE:20250801
DTSTAMP:20260425T155220
CREATED:20250610T095703Z
LAST-MODIFIED:20250610T095703Z
UID:60600-1753920000-1754006399@periodistasdearagon.org
SUMMARY:Fin del II Premio Periodístico de Enfermería de Salud Mental
DESCRIPTION:La Asociación Española de Enfermería de Salud Mental (AEESME) ha convocado la segunda edición del Premio Periodístico de la Asociación Española de Enfermería de Salud Mental\, que busca premiar el trabajo informativo de los profesionales de la comunicación sobre la función de las enfermeras especialistas en salud mental en el ámbito asistencial\, gestor\, docente o investigador\, y sus aportaciones científicas a la sociedad y a la mejora de la calidad de los cuidados. El plazo de inscripción finaliza el 31 de julio.
URL:https://periodistasdearagon.org/evento/fin-del-ii-premio-periodistico-de-enfermeria-de-salud-mental/
END:VEVENT
BEGIN:VEVENT
DTSTART;TZID=Europe/Madrid:20250707T080000
DTEND;TZID=Europe/Madrid:20250709T170000
DTSTAMP:20260425T155220
CREATED:20250610T095356Z
LAST-MODIFIED:20250610T095356Z
UID:60594-1751875200-1752080400@periodistasdearagon.org
SUMMARY:Curso de verano sobre IA aplicada al marketing
DESCRIPTION:La Fundación Universitaria Antonio Gargallo del Campus de Teruel de la Universidad de Zaragoza ha lanzado los días 7\, 8 y 9 de julio el curso intensivo presencial “Herramientas de Inteligencia Artificial: talleres prácticos aplicados al marketing y la comunicación”. \n
URL:https://periodistasdearagon.org/evento/curso-de-verano-sobre-ia-aplicada-al-marketing/
END:VEVENT
BEGIN:VEVENT
DTSTART;VALUE=DATE:20250625
DTEND;VALUE=DATE:20250626
DTSTAMP:20260425T155220
CREATED:20250425T184700Z
LAST-MODIFIED:20250425T184700Z
UID:59924-1750809600-1750895999@periodistasdearagon.org
SUMMARY:Concurso "Qué bello es vivir en mi pueblo"
DESCRIPTION:La Cátedra DPZ sobre Despoblación y Creatividad de la Diputación de Zaragoza y la Universidad de Zaragoza ha convocado la séptima edición del concurso de relato y vídeo &#8220;Qué bello es vivir en mi pueblo&#8221;. Está dirigido a niños y jóvenes de entre 8 y 18 años y a personas con discapacidad intelectual.\n\n \n\nEl plazo para enviar las creaciones ya está abierto y finaliza el 25 de junio.
URL:https://periodistasdearagon.org/evento/concurso-que-bello-es-vivir-en-mi-pueblo/
END:VEVENT
BEGIN:VEVENT
DTSTART;TZID=Europe/Madrid:20250623T080000
DTEND;TZID=Europe/Madrid:20250629T170000
DTSTAMP:20260425T155220
CREATED:20250425T182950Z
LAST-MODIFIED:20250425T183001Z
UID:59895-1750665600-1751216400@periodistasdearagon.org
SUMMARY:Campus La Inmortal
DESCRIPTION:La quinta edición del Campus de Cine y Series La Inmortal\, que se celebrará del 23 al 29 de junio en la Filmoteca de Zaragoza y podrá seguirse online\, ha abierto su inscripción para estudiantes y profesionales de la Comunicación y el Audiovisual. \n\n\n\nEste evento está organizado por la Asociación de Informadores Cinematográficos de España\, promotora de los Premios Feroz\, y por el Patronato Municipal de las Artes Escénicas y de la Imagen del Ayuntamiento de Zaragoza.
URL:https://periodistasdearagon.org/evento/campus-la-inmortal/
END:VEVENT
BEGIN:VEVENT
DTSTART;VALUE=DATE:20250623
DTEND;VALUE=DATE:20250624
DTSTAMP:20260425T155220
CREATED:20250610T095307Z
LAST-MODIFIED:20250610T095307Z
UID:60592-1750636800-1750723199@periodistasdearagon.org
SUMMARY:Fin de la convocatoria de la VIII edición de los Premios Lilí Álvarez
DESCRIPTION:El Instituto de las Mujeres\, en colaboración con el Consejo Superior de Deportes\, han convocado la VIII edición de los Premios Lilí Álvarez que reconocen los trabajos periodísticos que mejor hayan contribuido a la difusión y defensa de la igualdad entre mujeres y hombres en el ámbito deportivo y a visibilizar el deporte femenino en España. El plazo de inscripción estará abierto hasta el 23 de junio.
URL:https://periodistasdearagon.org/evento/fin-de-la-convocatoria-de-la-viii-edicion-de-los-premios-lili-alvarez/
END:VEVENT
BEGIN:VEVENT
DTSTART;VALUE=DATE:20250620
DTEND;VALUE=DATE:20250621
DTSTAMP:20260425T155220
CREATED:20250610T095028Z
LAST-MODIFIED:20250610T095028Z
UID:60584-1750377600-1750463999@periodistasdearagon.org
SUMMARY:Fin de los Accésit de Comunicación Científica Federico Halpern
DESCRIPTION:Fundación Occident ha convocado la primera edición del Accésit de Comunicación Científica Federico Halpern\, con el objetivo de reconocer la labor de periodistas\, comunicadores\, investigadores y creadores de contenido que destacan por su compromiso con la información y comunicación sobre alimentación\, nutrición y salud basada en evidencias científicas. El plazo está abierto hasta el 20 de junio.
URL:https://periodistasdearagon.org/evento/fin-de-los-accesit-de-comunicacion-cientifica-federico-halpern/
END:VEVENT
BEGIN:VEVENT
DTSTART;TZID=Europe/Madrid:20250618T180000
DTEND;TZID=Europe/Madrid:20250618T200000
DTSTAMP:20260425T155220
CREATED:20250610T095803Z
LAST-MODIFIED:20250610T095803Z
UID:60602-1750269600-1750276800@periodistasdearagon.org
SUMMARY:El fotoperiodista Emilio Morenatti protagoniza un encuentro sobre ‘El oficio de mirar y el compromiso con la realidad’
DESCRIPTION:El Centro de la Imagen y Cultura USJ\, dentro del programa de las III Jornadas de fotografía del Summer Foto ZGZ\, organizan este miércoles 18 de junio un encuentro con el fotoperiodista Emilio Morenatti. Desde el Edificio Grupo San Valero y con entrada libre hasta completar aforo\, este fotoperiodista aragonés reflexionará sobre ‘El oficio de mirar y el compromiso con la realidad’ a partir de las 18.00 horas. \n
URL:https://periodistasdearagon.org/evento/el-fotoperiodista-emilio-morenatti-protagoniza-un-encuentro-sobre-el-oficio-de-mirar-y-el-compromiso-con-la-realidad/
END:VEVENT
BEGIN:VEVENT
DTSTART;TZID=Europe/Madrid:20250617T180000
DTEND;TZID=Europe/Madrid:20250617T193000
DTSTAMP:20260425T155220
CREATED:20250610T094804Z
LAST-MODIFIED:20250610T094804Z
UID:60577-1750183200-1750188600@periodistasdearagon.org
SUMMARY:Ciclo "Política y Moda" del LAAAB
DESCRIPTION:El 17 de junio se realizará el ciclo sobre política y moda con Patrycia Centeno\, licenciada en Periodismo UAB\, experta en comunicación política no verbal y docente en la Universidad Ramón Llull de Barcelona. Se puede asistir de manera presencial y online desde el canal de YouTube del LAAAB.
URL:https://periodistasdearagon.org/evento/ciclo-politica-y-moda-del-laaab/
END:VEVENT
BEGIN:VEVENT
DTSTART;VALUE=DATE:20250613
DTEND;VALUE=DATE:20250614
DTSTAMP:20260425T155220
CREATED:20250610T095922Z
LAST-MODIFIED:20250610T095922Z
UID:60606-1749772800-1749859199@periodistasdearagon.org
SUMMARY:Fin de la XV edición de los Premios Luis Carandell de Periodismo Parlamentario
DESCRIPTION:El Senado convoca la XV edición de los Premios “Luis Carandell” de Periodismo Parlamentario\, tanto audiovisual como gráfico y escrito\, en sus dos categorías: Parlamentarismo y Territorialidad\, dotados cada una con 4.000 euros. El plazo está abierto hasta el 13 de junio.
URL:https://periodistasdearagon.org/evento/fin-de-la-xv-edicion-de-los-premios-luis-carandell-de-periodismo-parlamentario/
END:VEVENT
BEGIN:VEVENT
DTSTART;TZID=Europe/Madrid:20250610T180000
DTEND;TZID=Europe/Madrid:20250610T193000
DTSTAMP:20260425T155220
CREATED:20250610T094636Z
LAST-MODIFIED:20250610T094636Z
UID:60575-1749578400-1749583800@periodistasdearagon.org
SUMMARY:Ciclo "Consultoría en comunicación política" del LAAAB
DESCRIPTION:El 10 de junio\, de 18.00 a 19.30 horas\, tendrá lugar el encuentro sobre consultoría en comunicación política con Inma Aguilar\, licenciada en Comunicación y exdirectora de Gabinete del Ministerio de universidades y de la Federación española para la Ciencia y la Tecnología (FECYT). Es profesora FLACSO México y Costa Rica\, así como asesora internacional en campañas electorales.
URL:https://periodistasdearagon.org/evento/ciclo-consultoria-en-comunicacion-politica-del-laaab/
END:VEVENT
BEGIN:VEVENT
DTSTART;TZID=Europe/Madrid:20250609T080000
DTEND;TZID=Europe/Madrid:20250611T170000
DTSTAMP:20260425T155220
CREATED:20250610T095223Z
LAST-MODIFIED:20250610T095223Z
UID:60590-1749456000-1749661200@periodistasdearagon.org
SUMMARY:Reunión anual de la FIP
DESCRIPTION:Los miembros del Comité Ejecutivo de la FIP se reunirán del 9 al 11 de junio en Montreal\, Canadá\, para la Reunión Anual de dicho comité. Las reuniones\, organizadas por la Federación Nacional de Comunicaciones y Cultura de Canadá (FNCC)\, servirán para debatir sobre la situación mundial y la defensa de la radiodifusión de servicio público.
URL:https://periodistasdearagon.org/evento/reunion-anual-de-la-fip/
END:VEVENT
BEGIN:VEVENT
DTSTART;VALUE=DATE:20250609
DTEND;VALUE=DATE:20250610
DTSTAMP:20260425T155220
CREATED:20250610T094938Z
LAST-MODIFIED:20250610T094938Z
UID:60581-1749427200-1749513599@periodistasdearagon.org
SUMMARY:Fin del Premio Roche de Periodismo en Salud 2025
DESCRIPTION:Hasta el 9 de junio estarán abiertas las inscripciones al Premio Roche de Periodismo en Salud\, una iniciativa que reconoce la excelencia y pretende estimular la cobertura periodística de calidad sobre temas de salud y ciencia en América Latina\, España y Portugal\, país que se suma por primera vez al premio.
URL:https://periodistasdearagon.org/evento/fin-del-premio-roche-de-periodismo-en-salud-2025/
END:VEVENT
END:VCALENDAR