BEGIN:VCALENDAR
VERSION:2.0
PRODID:-//Asociación de Periodistas De Aragón - ECPv6.15.12.2//NONSGML v1.0//EN
CALSCALE:GREGORIAN
METHOD:PUBLISH
X-WR-CALNAME:Asociación de Periodistas De Aragón
X-ORIGINAL-URL:https://periodistasdearagon.org
X-WR-CALDESC:Eventos para Asociación de Periodistas De Aragón
REFRESH-INTERVAL;VALUE=DURATION:PT1H
X-Robots-Tag:noindex
X-PUBLISHED-TTL:PT1H
BEGIN:VTIMEZONE
TZID:Europe/Madrid
BEGIN:DAYLIGHT
TZOFFSETFROM:+0100
TZOFFSETTO:+0200
TZNAME:CEST
DTSTART:20250330T010000
END:DAYLIGHT
BEGIN:STANDARD
TZOFFSETFROM:+0200
TZOFFSETTO:+0100
TZNAME:CET
DTSTART:20251026T010000
END:STANDARD
BEGIN:DAYLIGHT
TZOFFSETFROM:+0100
TZOFFSETTO:+0200
TZNAME:CEST
DTSTART:20260329T010000
END:DAYLIGHT
BEGIN:STANDARD
TZOFFSETFROM:+0200
TZOFFSETTO:+0100
TZNAME:CET
DTSTART:20261025T010000
END:STANDARD
BEGIN:DAYLIGHT
TZOFFSETFROM:+0100
TZOFFSETTO:+0200
TZNAME:CEST
DTSTART:20270328T010000
END:DAYLIGHT
BEGIN:STANDARD
TZOFFSETFROM:+0200
TZOFFSETTO:+0100
TZNAME:CET
DTSTART:20271031T010000
END:STANDARD
END:VTIMEZONE
BEGIN:VEVENT
DTSTART;TZID=Europe/Madrid:20260122T080000
DTEND;TZID=Europe/Madrid:20260123T170000
DTSTAMP:20260426T031311
CREATED:20260126T082354Z
LAST-MODIFIED:20260126T082354Z
UID:61879-1769068800-1769187600@periodistasdearagon.org
SUMMARY:I Jornadas internacionales para combatir los discursos de odio
DESCRIPTION:Zaragoza acogerá los próximos días 22 y 23 de enero las I Jornadas Internacionales “Ideas para combatir el odio”\, un encuentro que reunirá a académicos\, periodistas\, activistas y representantes institucionales para reflexionar sobre el auge de los discursos de odio y sus efectos en la democracia. \nLas jornadas están organizadas por la Fundación Contexto y Acción\, el Comisionado 50 años de España en Libertad\, la Universidad de Zaragoza y el Ateneo Stanbrook\, con la colaboración de entidades como Hope not Hate\, Brasil Contra el Odio\, Internacional Progresista o Pandemia Digital\, y se celebrarán en el Paraninfo de la Universidad de Zaragoza y en el Ateneo Laico Stanbrook.
URL:https://periodistasdearagon.org/evento/i-jornadas-internacionales-para-combatir-los-discursos-de-odio/
ATTACH;FMTTYPE=image/jpeg:https://periodistasdearagon.org/wp-content/uploads/2026/01/AJUSTE-DE-IMAGENES-2026-01-15T162707.725.jpg
END:VEVENT
END:VCALENDAR