BEGIN:VCALENDAR
VERSION:2.0
PRODID:-//Asociación de Periodistas De Aragón - ECPv6.15.12.2//NONSGML v1.0//EN
CALSCALE:GREGORIAN
METHOD:PUBLISH
X-ORIGINAL-URL:https://periodistasdearagon.org
X-WR-CALDESC:Eventos para Asociación de Periodistas De Aragón
REFRESH-INTERVAL;VALUE=DURATION:PT1H
X-Robots-Tag:noindex
X-PUBLISHED-TTL:PT1H
BEGIN:VTIMEZONE
TZID:Europe/Madrid
BEGIN:DAYLIGHT
TZOFFSETFROM:+0100
TZOFFSETTO:+0200
TZNAME:CEST
DTSTART:20250330T010000
END:DAYLIGHT
BEGIN:STANDARD
TZOFFSETFROM:+0200
TZOFFSETTO:+0100
TZNAME:CET
DTSTART:20251026T010000
END:STANDARD
BEGIN:DAYLIGHT
TZOFFSETFROM:+0100
TZOFFSETTO:+0200
TZNAME:CEST
DTSTART:20260329T010000
END:DAYLIGHT
BEGIN:STANDARD
TZOFFSETFROM:+0200
TZOFFSETTO:+0100
TZNAME:CET
DTSTART:20261025T010000
END:STANDARD
BEGIN:DAYLIGHT
TZOFFSETFROM:+0100
TZOFFSETTO:+0200
TZNAME:CEST
DTSTART:20270328T010000
END:DAYLIGHT
BEGIN:STANDARD
TZOFFSETFROM:+0200
TZOFFSETTO:+0100
TZNAME:CET
DTSTART:20271031T010000
END:STANDARD
END:VTIMEZONE
BEGIN:VEVENT
DTSTART;TZID=Europe/Madrid:20260312T080000
DTEND;TZID=Europe/Madrid:20260313T170000
DTSTAMP:20260425T161410
CREATED:20250425T184601Z
LAST-MODIFIED:20250609T113857Z
UID:59922-1773302400-1773421200@periodistasdearagon.org
SUMMARY:XXVII Congreso de Periodismo de Huesca
DESCRIPTION:El 27º Congreso de Periodismo de Huesca ya tiene fecha confirmada: 12 y 13 de marzo de 2026.
URL:https://periodistasdearagon.org/evento/xxvii-congreso-de-periodismo-de-huesca/
END:VEVENT
END:VCALENDAR