BEGIN:VCALENDAR
VERSION:2.0
PRODID:-//Asociación de Periodistas De Aragón - ECPv6.15.12.2//NONSGML v1.0//EN
CALSCALE:GREGORIAN
METHOD:PUBLISH
X-WR-CALNAME:Asociación de Periodistas De Aragón
X-ORIGINAL-URL:https://periodistasdearagon.org
X-WR-CALDESC:Eventos para Asociación de Periodistas De Aragón
REFRESH-INTERVAL;VALUE=DURATION:PT1H
X-Robots-Tag:noindex
X-PUBLISHED-TTL:PT1H
BEGIN:VTIMEZONE
TZID:Europe/Madrid
BEGIN:DAYLIGHT
TZOFFSETFROM:+0100
TZOFFSETTO:+0200
TZNAME:CEST
DTSTART:20250330T010000
END:DAYLIGHT
BEGIN:STANDARD
TZOFFSETFROM:+0200
TZOFFSETTO:+0100
TZNAME:CET
DTSTART:20251026T010000
END:STANDARD
BEGIN:DAYLIGHT
TZOFFSETFROM:+0100
TZOFFSETTO:+0200
TZNAME:CEST
DTSTART:20260329T010000
END:DAYLIGHT
BEGIN:STANDARD
TZOFFSETFROM:+0200
TZOFFSETTO:+0100
TZNAME:CET
DTSTART:20261025T010000
END:STANDARD
BEGIN:DAYLIGHT
TZOFFSETFROM:+0100
TZOFFSETTO:+0200
TZNAME:CEST
DTSTART:20270328T010000
END:DAYLIGHT
BEGIN:STANDARD
TZOFFSETFROM:+0200
TZOFFSETTO:+0100
TZNAME:CET
DTSTART:20271031T010000
END:STANDARD
END:VTIMEZONE
BEGIN:VEVENT
DTSTART;VALUE=DATE:20260119
DTEND;VALUE=DATE:20260120
DTSTAMP:20260425T193532
CREATED:20260126T082457Z
LAST-MODIFIED:20260126T082457Z
UID:61881-1768780800-1768867199@periodistasdearagon.org
SUMMARY:'El tiempo de las mujeres' con Pepa Fernández
DESCRIPTION:El Aula Magna del Paraninfo de la Universidad de Zaragoza acogerá el lunes 19 de enero\, a las 19.00 horas\, la sesión 26 del ciclo “El tiempo de las mujeres”\, un ciclo de conversaciones entre mujeres sobresalientes de la vida española y aragonesa\, que en esta ocasión contará con la presencia de dos grandes figuras del periodismo\, Pepa Fernández y Lola Campos\, que entrevistará a Fernández sobre su brillante trayectoria. \nPepa Fernández\, nacida en Cervera (Lleida) es una de las grandes periodistas españolas de este siglo XXI. Licenciada en Ciencias de la Información por la Universidad Autónoma de Barcelona\, buena parte de su carrera profesional la ha desarrollado en Radio Nacional de España\, como directora y presentadora de programas como No es un día cualquiera (entre 1999 y 2019 y entre 2022 hasta la actualidad) o De pe a pa (entre 2019 y 2022). Ha colaborado con TVE y TV3 y ha sido profesora de periodismo en diversas universidades.
URL:https://periodistasdearagon.org/evento/el-tiempo-de-las-mujeres-con-pepa-fernandez/
ATTACH;FMTTYPE=image/jpeg:https://periodistasdearagon.org/wp-content/uploads/2026/01/AJUSTE-DE-IMAGENES-2026-01-14T142104.720.jpg
END:VEVENT
END:VCALENDAR