BEGIN:VCALENDAR
VERSION:2.0
PRODID:-//Asociación de Periodistas De Aragón - ECPv6.15.12.2//NONSGML v1.0//EN
CALSCALE:GREGORIAN
METHOD:PUBLISH
X-ORIGINAL-URL:https://periodistasdearagon.org
X-WR-CALDESC:Eventos para Asociación de Periodistas De Aragón
REFRESH-INTERVAL;VALUE=DURATION:PT1H
X-Robots-Tag:noindex
X-PUBLISHED-TTL:PT1H
BEGIN:VTIMEZONE
TZID:Europe/Madrid
BEGIN:DAYLIGHT
TZOFFSETFROM:+0100
TZOFFSETTO:+0200
TZNAME:CEST
DTSTART:20240331T010000
END:DAYLIGHT
BEGIN:STANDARD
TZOFFSETFROM:+0200
TZOFFSETTO:+0100
TZNAME:CET
DTSTART:20241027T010000
END:STANDARD
BEGIN:DAYLIGHT
TZOFFSETFROM:+0100
TZOFFSETTO:+0200
TZNAME:CEST
DTSTART:20250330T010000
END:DAYLIGHT
BEGIN:STANDARD
TZOFFSETFROM:+0200
TZOFFSETTO:+0100
TZNAME:CET
DTSTART:20251026T010000
END:STANDARD
BEGIN:DAYLIGHT
TZOFFSETFROM:+0100
TZOFFSETTO:+0200
TZNAME:CEST
DTSTART:20260329T010000
END:DAYLIGHT
BEGIN:STANDARD
TZOFFSETFROM:+0200
TZOFFSETTO:+0100
TZNAME:CET
DTSTART:20261025T010000
END:STANDARD
END:VTIMEZONE
BEGIN:VEVENT
DTSTART;VALUE=DATE:20250831
DTEND;VALUE=DATE:20250901
DTSTAMP:20260426T042351
CREATED:20250425T182652Z
LAST-MODIFIED:20250425T182652Z
UID:59893-1756598400-1756684799@periodistasdearagon.org
SUMMARY:Certamen "Punto final" de Quinto
DESCRIPTION:Quinto convoca la V edición del certamen &#8220;Punto final&#8220;\, donde la muerte es la protagonista absoluta de las creaciones artísticas: cortometraje\, cuento y fotografía. El plazo de envío de obras finalizará el 31 de agosto.
URL:https://periodistasdearagon.org/evento/certamen-punto-final-de-quinto/
END:VEVENT
END:VCALENDAR